BEGIN:VCALENDAR
VERSION:2.0
PRODID:-//Bachelor Chemistry
CALSCALE:GREGORIAN
METHOD:PUBLISH
X-WR-CALNAME:Bachelor Chemistry
X-ORIGINAL-URL:https://science.unib.ac.id/bc/event/kuliah-umum-perkembangan-ilmu-teknologi-nano-dan-aplikasinya-di-indonesia/
X-WR-CALDESC:Kuliah Umum Perkembangan Ilmu &amp; Teknologi Nano dan Aplikasinya di Indonesia
BEGIN:VEVENT
DTSTART:
DTEND:
SUMMARY:Kuliah Umum Perkembangan Ilmu &amp; Teknologi Nano dan Aplikasinya di Indonesia
DESCRIPTION:
LOCATION:Universitas Bengkulu
END:VEVENT
END:VCALENDAR
