BEGIN:VCALENDAR
VERSION:2.0
PRODID:-//Bachelor Chemistry
CALSCALE:GREGORIAN
METHOD:PUBLISH
X-WR-CALNAME:Bachelor Chemistry
X-ORIGINAL-URL:https://science.unib.ac.id/bc/event/seminar-nasional-kimia-2020/
X-WR-CALDESC:Seminar Nasional Kimia 2020
BEGIN:VEVENT
DTSTART:20201015T000000
DTEND:20201015T000000
SUMMARY:Seminar Nasional Kimia 2020
DESCRIPTION:
LOCATION:Universitas Bengkulu
END:VEVENT
END:VCALENDAR
