BEGIN:VCALENDAR
VERSION:2.0
PRODID:-//Bachelor Chemistry
CALSCALE:GREGORIAN
METHOD:PUBLISH
X-WR-CALNAME:Bachelor Chemistry
X-ORIGINAL-URL:https://science.unib.ac.id/bc/event/iccpm/
X-WR-CALDESC:ICCPM
BEGIN:VEVENT
DTSTART:20211124T080000
DTEND:20211125T180000
SUMMARY:ICCPM
DESCRIPTION:
LOCATION:Universitas Bengkulu
END:VEVENT
END:VCALENDAR
