BEGIN:VCALENDAR
VERSION:2.0
PRODID:-//Bachelor Chemistry
CALSCALE:GREGORIAN
METHOD:PUBLISH
X-WR-CALNAME:Bachelor Chemistry
X-ORIGINAL-URL:https://science.unib.ac.id/bc/event/dies-natalis-universitas-bengkulu-ke-43/
X-WR-CALDESC:UPCOMING DIES NATALIS UNIVERSITAS BENGKULU KE-43
BEGIN:VEVENT
DTSTART:20250307T000000
DTEND:20250424T000000
SUMMARY:UPCOMING DIES NATALIS UNIVERSITAS BENGKULU KE-43
DESCRIPTION:
LOCATION:Universitas Bengkulu
END:VEVENT
END:VCALENDAR
