BEGIN:VCALENDAR
VERSION:2.0
PRODID:-//Program Studi D3 Kebidanan
CALSCALE:GREGORIAN
METHOD:PUBLISH
X-WR-CALNAME:Program Studi D3 Kebidanan
X-ORIGINAL-URL:https://science.unib.ac.id/d3kebidanan/event/kuliah-umum/
X-WR-CALDESC:Kuliah Umum
BEGIN:VEVENT
DTSTART:20241125T080000
DTEND:20241125T123000
SUMMARY:Kuliah Umum
DESCRIPTION:
LOCATION:Gedung GLT Lantai 2 Kampus Pusat UNIB
END:VEVENT
END:VCALENDAR
