BEGIN:VCALENDAR
VERSION:2.0
PRODID:-//Program Studi D3 Kebidanan
CALSCALE:GREGORIAN
METHOD:PUBLISH
X-WR-CALNAME:Program Studi D3 Kebidanan
X-ORIGINAL-URL:https://science.unib.ac.id/d3kebidanan/event/workshop/
X-WR-CALDESC:Workshop
BEGIN:VEVENT
DTSTART:20241206T000000
DTEND:20241207T000000
SUMMARY:Workshop
DESCRIPTION:
LOCATION:
END:VEVENT
END:VCALENDAR
