BEGIN:VCALENDAR
VERSION:2.0
PRODID:-//Program Studi D3 Kebidanan
CALSCALE:GREGORIAN
METHOD:PUBLISH
X-WR-CALNAME:Program Studi D3 Kebidanan
X-ORIGINAL-URL:https://science.unib.ac.id/d3kebidanan/event/osce/
X-WR-CALDESC:OSCE
BEGIN:VEVENT
DTSTART:20241219T000000
DTEND:20241220T000000
SUMMARY:OSCE
DESCRIPTION:
LOCATION:
END:VEVENT
END:VCALENDAR
